BEGIN:VCALENDAR
VERSION:2.0
PRODID:-//InvisionCommunity Events 4.7.18//EN
METHOD:PUBLISH
CALSCALE:GREGORIAN
REFRESH-INTERVAL:PT15M
X-PUBLISHED-TTL:PT15M
X-WR-CALNAME:Community Calendar
NAME:Community Calendar
BEGIN:VTIMEZONE
TZID:Europe/London
TZURL:http://tzurl.org/zoneinfo/Europe/London
X-LIC-LOCATION:Europe/London
BEGIN:DAYLIGHT
TZOFFSETFROM:+0000
TZOFFSETTO:+0100
TZNAME:BST
DTSTART:20260329T020000Z
RRULE:FREQ=YEARLY;BYMONTH=3;BYDAY=-1SU
END:DAYLIGHT
BEGIN:STANDARD
TZOFFSETFROM:+0100
TZOFFSETTO:+0000
TZNAME:GMT
DTSTART:20261025T020000Z
RRULE:FREQ=YEARLY;BYMONTH=10;BYDAY=-1SU
END:STANDARD
END:VTIMEZONE
BEGIN:VEVENT
SUMMARY:2nd International Conference on Infrastructure and Construct
	ion Engineering
DTSTAMP:20250925T075549Z
SEQUENCE:0
UID:3-1-404690d93940ba87669f3f88f67dce2c@imperialgunners.com
ORGANIZER;CN="Anusha":admin@imperialgunners.com
DESCRIPTION:\n	Join us at the 2nd International Conference on Infrastruc
	ture and Construction Engineering (ICICE2026) in Paris\, France\, from Apr
	il 16-18\, 2026. This conference will bring together professionals\, resea
	rchers\, and industry experts to explore the latest trends and innovations
	 in infrastructure and construction engineering.\n\n	Discussions will cove
	r a wide range of topics\, including smart infrastructure\, sustainability
	 in construction\, BIM (Building Information Modeling)\, and construction 
	safety. It is an excellent opportunity to connect with peers\, learn from 
	experts\, and gain valuable insights into the future of the industry.\n\n	
	Do not miss out on this exciting event in Paris to shape the future of inf
	rastructure and construction!\n\n	#SmartInfrastructure #SustainableConstru
	ction #FutureOfCivil #BuildBetterCities #GreenEngineering #ConcreteInnovat
	ion #NextGenInfrastructure #ResilientStructures #TechInConstruction #Civil
	BuildsTomorrow                 \n\n	We look forward to the hon
	or of welcoming you to ICICE2026 in Paris\, France.\n\n\n\n	Thanks and Bes
	t Regards\,\n\n	Anusha | Conference Secretary\n\n	Infrastructure-2026\n\n
DTSTART;VALUE=DATE:20260416
END:VEVENT
END:VCALENDAR
